BEGIN:VCALENDAR
VERSION:2.0
PRODID:-//Sunshine Bimmers - ECPv6.15.20//NONSGML v1.0//EN
CALSCALE:GREGORIAN
METHOD:PUBLISH
X-WR-CALNAME:Sunshine Bimmers
X-ORIGINAL-URL:http://sunshinebimmers.org
X-WR-CALDESC:Events for Sunshine Bimmers
REFRESH-INTERVAL;VALUE=DURATION:PT1H
X-Robots-Tag:noindex
X-PUBLISHED-TTL:PT1H
BEGIN:VTIMEZONE
TZID:America/New_York
BEGIN:DAYLIGHT
TZOFFSETFROM:-0500
TZOFFSETTO:-0400
TZNAME:EDT
DTSTART:20130310T070000
END:DAYLIGHT
BEGIN:STANDARD
TZOFFSETFROM:-0400
TZOFFSETTO:-0500
TZNAME:EST
DTSTART:20131103T060000
END:STANDARD
BEGIN:DAYLIGHT
TZOFFSETFROM:-0500
TZOFFSETTO:-0400
TZNAME:EDT
DTSTART:20140309T070000
END:DAYLIGHT
BEGIN:STANDARD
TZOFFSETFROM:-0400
TZOFFSETTO:-0500
TZNAME:EST
DTSTART:20141102T060000
END:STANDARD
BEGIN:DAYLIGHT
TZOFFSETFROM:-0500
TZOFFSETTO:-0400
TZNAME:EDT
DTSTART:20150308T070000
END:DAYLIGHT
BEGIN:STANDARD
TZOFFSETFROM:-0400
TZOFFSETTO:-0500
TZNAME:EST
DTSTART:20151101T060000
END:STANDARD
BEGIN:DAYLIGHT
TZOFFSETFROM:-0500
TZOFFSETTO:-0400
TZNAME:EDT
DTSTART:20160313T070000
END:DAYLIGHT
BEGIN:STANDARD
TZOFFSETFROM:-0400
TZOFFSETTO:-0500
TZNAME:EST
DTSTART:20161106T060000
END:STANDARD
BEGIN:DAYLIGHT
TZOFFSETFROM:-0500
TZOFFSETTO:-0400
TZNAME:EDT
DTSTART:20170312T070000
END:DAYLIGHT
BEGIN:STANDARD
TZOFFSETFROM:-0400
TZOFFSETTO:-0500
TZNAME:EST
DTSTART:20171105T060000
END:STANDARD
BEGIN:DAYLIGHT
TZOFFSETFROM:-0500
TZOFFSETTO:-0400
TZNAME:EDT
DTSTART:20180311T070000
END:DAYLIGHT
BEGIN:STANDARD
TZOFFSETFROM:-0400
TZOFFSETTO:-0500
TZNAME:EST
DTSTART:20181104T060000
END:STANDARD
BEGIN:DAYLIGHT
TZOFFSETFROM:-0500
TZOFFSETTO:-0400
TZNAME:EDT
DTSTART:20190310T070000
END:DAYLIGHT
BEGIN:STANDARD
TZOFFSETFROM:-0400
TZOFFSETTO:-0500
TZNAME:EST
DTSTART:20191103T060000
END:STANDARD
END:VTIMEZONE
BEGIN:VEVENT
DTSTART;TZID=America/New_York:20181216T120000
DTEND;TZID=America/New_York:20181216T140000
DTSTAMP:20260420T054609
CREATED:20181210T191439Z
LAST-MODIFIED:20181210T191439Z
UID:1309-1544961600-1544968800@sunshinebimmers.org
SUMMARY:Cars and Coffee Ormond Beach
DESCRIPTION:Cars and Coffee Ormond Beach\nSunday\, December 16th\,\n12 PM – 2 PM\nDonnie’s Donuts\n200 E. Granada Blvd.\nOrmond Beach\, FL\n32176 \nWebsite:\nhttps://www.donniesdonuts.com/
URL:http://sunshinebimmers.org/event/cars-and-coffee-ormond-beach-5/
LOCATION:Donnie’s Donuts\, 200 E. Granada Blvd\, Ormond Beach\, FL\, 32176\, United States
CATEGORIES:General
ATTACH;FMTTYPE=image/jpeg:http://sunshinebimmers.org/wp-content/uploads/2018/02/27709909_10157102547416982_8223180779577813937_o.jpg
END:VEVENT
BEGIN:VEVENT
DTSTART;TZID=America/New_York:20181016T180000
DTEND;TZID=America/New_York:20181016T200000
DTSTAMP:20260420T054609
CREATED:20181013T135027Z
LAST-MODIFIED:20181013T135225Z
UID:1203-1539712800-1539720000@sunshinebimmers.org
SUMMARY:BMW Night Ace Cafe
DESCRIPTION:  \nAce Cafe\n100 W Livingston St.\nOrlando 32801\nCocktails at 6:00 PM\nDinner at 7:00 PM\nWebsite http://www.acecafeusa.com/ \nNOTE *\nIt is very important that if you would like to attend that you RSVP Robin so that they can make sure there is enough seating for everyone in the group. \nEMAIL robin@artisticantiquities.com by no later than Monday\, October 18\, if you would like to attend. \nPlease mention the event to which you are responding this is extremely important to make sure there are enough accommodations for the event you would like to attend.\nThank you\,\nRobin
URL:http://sunshinebimmers.org/event/bmw-night-ace-cafe/
LOCATION:Ace Café\, 100 W Livingston St.\, Orlando\, 32801\, United States
CATEGORIES:General
ATTACH;FMTTYPE=image/jpeg:http://sunshinebimmers.org/wp-content/uploads/2018/10/41210522_10157731173951982_3289742634301521920_n.jpg
END:VEVENT
BEGIN:VEVENT
DTSTART;TZID=America/New_York:20180701T113000
DTEND;TZID=America/New_York:20180701T143000
DTSTAMP:20260420T054609
CREATED:20180620T134536Z
LAST-MODIFIED:20180620T134536Z
UID:1042-1530444600-1530455400@sunshinebimmers.org
SUMMARY:Sunshine Bimmers - July Lunch Get Together
DESCRIPTION:Join us for another Lunch on the Spacecoast! \nWhen?\nSaturday\, July 1st \nWhere?\nSquid Lips\n1477 Pineapple Ave\nMelbourne\, FL 32935 \nWebsite\nhttps://www.squidlipsgrill.com/ \nIf you would like to ensure you get a seat please RSVP via email NO LATER than 6/29/18 so that I can make sure there is enough seating for everyone in the group. \nEsteban’s Email\nesteban.valentin@gmail.com
URL:http://sunshinebimmers.org/event/sunshine-bimmers-july-lunch-get-together/
LOCATION:Squid Lips\, 1477 Pineapple Ave\, Melbourne\, FL\, 32935\, United States
CATEGORIES:General
ATTACH;FMTTYPE=image/jpeg:http://sunshinebimmers.org/wp-content/uploads/2018/06/sticky-lips.jpg
END:VEVENT
BEGIN:VEVENT
DTSTART;TZID=America/New_York:20180616T110000
DTEND;TZID=America/New_York:20180616T160000
DTSTAMP:20260420T054609
CREATED:20180524T151800Z
LAST-MODIFIED:20180524T151859Z
UID:1012-1529146800-1529164800@sunshinebimmers.org
SUMMARY:Sunshine Bimmers Annual Picnic On The Beach
DESCRIPTION:Save This Date! June 16th\, 2018 \n  \nSunshine Bimmers Annual Picnic\nPelican Beach Park in Satellite Beach\n11 am – 4 pm\, Lunch served 12-1.\nBurgers\, Brats\, Chips\, Cookies\, Soda and Water provided. \nPlease bring a covered dish to share for lunch and a beach chair and beach supplies for sitting by the water. We’ll have a set of corn hole boards for some friendly competition!
URL:http://sunshinebimmers.org/event/sunshine-bimmers-annual-picnic-on-the-beach/
LOCATION:Pelican Beach Park\, 1525 Florida A1A\, Satellite Beach\, FL\, United States
CATEGORIES:General
ATTACH;FMTTYPE=image/jpeg:http://sunshinebimmers.org/wp-content/uploads/2018/05/BMW-picnic-7.29-small-image.jpg
END:VEVENT
BEGIN:VEVENT
DTSTART;VALUE=DATE:20180517
DTEND;VALUE=DATE:20180518
DTSTAMP:20260420T054609
CREATED:20180214T043406Z
LAST-MODIFIED:20180214T043546Z
UID:912-1526515200-1526547600@sunshinebimmers.org
SUMMARY:The Vintage Asheville - Hot Springs\, NC
DESCRIPTION:The Vintage:\nMay 17 thru May 20th:\nThis is the largest gathering of vintage BMW’s on the east coast (Please visit the website to see what year BMW’s are allowed) Last year over 650 cars attended.This is NOT a car show\, there is no judging\, but truly a gathering of like-minded BMW enthusiasts. This is the 16th\, year for this event and this will be Joanne and my 12 event.The Saturday event is located In Hot Springs SC. all the information for hotels are located on the following website: www.atthevintage.com \nIf you like old BMW’s don’t miss this event. If there is any interest in attending this event as a group\, large or small\, please contact Robin Butler at robin@artisticantiquities.com as soon as possible.
URL:http://sunshinebimmers.org/event/the-vintage-asheville-hot-springs-nc/
LOCATION:Hot Springs Resort\, 315 Bridge St\, Hot Springs\, NC\, United States
CATEGORIES:General
ATTACH;FMTTYPE=image/jpeg:http://sunshinebimmers.org/wp-content/uploads/2018/02/27503475_10157102652836982_108218776449968850_o.jpg
END:VEVENT
BEGIN:VEVENT
DTSTART;TZID=America/New_York:20180512T113000
DTEND;TZID=America/New_York:20180512T143000
DTSTAMP:20260420T054609
CREATED:20180427T160842Z
LAST-MODIFIED:20180427T160842Z
UID:1005-1526124600-1526135400@sunshinebimmers.org
SUMMARY:BMW Lunch at BJ’s Brewhouse
DESCRIPTION:Join us for Lunch on the Spacecoast \nSaturday\, May 12th\n11:30 am till?\nBJ’s Brewhouse\n1700 W New Haven\,\nMelbourne\, FL\n32904 \nWebsite\nhttps://www.bjsrestaurants.com/locations/fl/melbourne \nNOTE *\nIt is very important that if you would like to attend that you RSVP Esteban ( esteban.valentin@gmail.com ) NO LATER than 5/10/18 so that he can make sure there is enough seating for everyone in the group. \nEstaban’s Email\nesteban.valentin@gmail.com
URL:http://sunshinebimmers.org/event/bmw-lunch-at-bjs-brewhouse/
LOCATION:BJ’s Brewhouse\, 1700 W New Haven\, Melbourne\, FL\, 32904\, United States
CATEGORIES:General
ATTACH;FMTTYPE=image/jpeg:http://sunshinebimmers.org/wp-content/uploads/2018/04/bjs-brewhouse-1.jpg
ORGANIZER;CN="Esteban Valentin":MAILTO:esteban.valentin@gmail.com
END:VEVENT
BEGIN:VEVENT
DTSTART;VALUE=DATE:20180426
DTEND;VALUE=DATE:20180630
DTSTAMP:20260420T054609
CREATED:20180214T042225Z
LAST-MODIFIED:20180214T042720Z
UID:904-1524700800-1530316799@sunshinebimmers.org
SUMMARY:Southeast Sharkfest 2018
DESCRIPTION:4/26 thru 4/29 held in Spartanburg SC. This show started for original 6 series BMW’s but has grown to except new 6 series along with E 9’s 2800 and 3.0 CSi’s and E 31 8 series. There are multiple drives that take place for your enjoyment and you do not need to have a car listed above to make the drives. \nThe host hotel is the Marriott Spartanburg.\nMarriott\n299 North Church Street\nSpartanburg\, SC 29306 \nMore Information\nhttp://www.bmwsharkfest.org/#/SoutheastSharkfest2018/e26 \nIf there is any interest in attending this event as a group\, large or small\, please contact Robin Butler at robin@artisticantiquities.com as soon as possible. \n 
URL:http://sunshinebimmers.org/event/southeast-sharkfest-2018/
LOCATION:BMW Manufacturing\, 1400 South Carolina 101\, Greer\, SC\, 29651\, United States
CATEGORIES:Car Show,General
ATTACH;FMTTYPE=image/jpeg:http://sunshinebimmers.org/wp-content/uploads/2018/02/27750827_10157102625296982_2962761691904757392_n.jpg
END:VEVENT
BEGIN:VEVENT
DTSTART;TZID=America/New_York:20180407T080000
DTEND;TZID=America/New_York:20180407T100000
DTSTAMP:20260420T054609
CREATED:20180321T162252Z
LAST-MODIFIED:20180321T162653Z
UID:965-1523088000-1523095200@sunshinebimmers.org
SUMMARY:Tech Talk at Sports & Imports\, Orlando
DESCRIPTION:Join us at Sports & Imports for our next BMW-oriented technical session hosted by Jivi Khehar (donuts & coffee provided). \nThese popular events help you learn about key maintenance and common repair issues on your cars. Sports & Imports is located at 803  Fairvilla Rd. 32808. \nTech Talk will be held from 8:00 AM to 10 AM on Saturday\, April 7th. No cost to attend. \n\nNOTE *\nIt is very important that if you would like to attend that you RSVP Robin so that they can make sure there is enough room for everyone in the group.EMAIL robin@artisticantiquities.com by no later than Friday\, April 6th\, if you would like to attend.Please mention the event to which you are responding this is extremely important to make sure there are enough accommodations for the event you would like to attend.\nThank you\,\nRobin
URL:http://sunshinebimmers.org/event/tech-talk-at-sports-imports-orlando/
LOCATION:Sports & Imports\, 803 Fairvilla Rd\, Orlando\, FL\, 32808\, United States
CATEGORIES:General
ATTACH;FMTTYPE=image/jpeg:http://sunshinebimmers.org/wp-content/uploads/2018/03/21015971_1958419634405628_4422162971452524358_o.jpg
END:VEVENT
BEGIN:VEVENT
DTSTART;TZID=America/New_York:20180327T190000
DTEND;TZID=America/New_York:20180327T210000
DTSTAMP:20260420T054609
CREATED:20180311T155316Z
LAST-MODIFIED:20180311T155316Z
UID:954-1522177200-1522184400@sunshinebimmers.org
SUMMARY:Teutonic Tuesday Dinner
DESCRIPTION:Join us for Cocktails and Dinner on Tuesday\, March 27th\, for Teutonic Tuesday at Ace Cafe Orlando \nAce Cafe\n100 W Livingston St.\nOrlando 32801\nCocktails at 6:00 PM\nDinner at 7:00 PM\nWebsite http://www.acecafeusa.com \nNOTE *\nIt is very important that if you would like to attend that you RSVP Robin so that they can make sure there is enough seating for everyone in the group. \nEMAIL robin@artisticantiquities.com by no later than Monday\, January 22nd\, if you would like to attend. \nPlease mention the event to which you are responding this is extremely important to make sure there are enough accommodations for the event you would like to attend.\nThank you\,\nRobin
URL:http://sunshinebimmers.org/event/teutonic-tuesday-dinner-4/
LOCATION:Ace Café\, 100 W Livingston St.\, Orlando\, 32801\, United States
CATEGORIES:General
ATTACH;FMTTYPE=image/jpeg:http://sunshinebimmers.org/wp-content/uploads/2018/01/22521_1501597044.jpg
END:VEVENT
BEGIN:VEVENT
DTSTART;TZID=America/New_York:20180128T080000
DTEND;TZID=America/New_York:20180128T100000
DTSTAMP:20260420T054609
CREATED:20180117T151940Z
LAST-MODIFIED:20180117T151940Z
UID:855-1517126400-1517133600@sunshinebimmers.org
SUMMARY:BMW Breakfast
DESCRIPTION:Car lovers Breakfast at Maitland Breakfast Club to enjoy breakfast\, coffee\, and our greatest passion – cars. \nSunday\, January 28th\n8:00 AM / 10 AM\nMaitland Breakfast Club\n745 Orienta Ave.\,\nMaitland 32701 \nNOTE *\nIt is very important that if you would like to attend that you RSVP Robin so that they can make sure there is enough seating for everyone in the group. \nEMAIL robin@artisticantiquities.com by no later than Saturday\, January 27th\, if you would like to attend.  \nPlease mention the event to which you are responding this is extremely important to make sure there are enough accommodations for the event you would like to attend.\nThank you\,\nRobin
URL:http://sunshinebimmers.org/event/bmw-breakfast/
LOCATION:FL
CATEGORIES:General
ATTACH;FMTTYPE=image/jpeg:http://sunshinebimmers.org/wp-content/uploads/2018/01/1-Maitland-Breakfast-Club.jpg
END:VEVENT
BEGIN:VEVENT
DTSTART;TZID=America/New_York:20180123T180000
DTEND;TZID=America/New_York:20180123T210000
DTSTAMP:20260420T054609
CREATED:20180117T153525Z
LAST-MODIFIED:20180117T153525Z
UID:863-1516730400-1516741200@sunshinebimmers.org
SUMMARY:Teutonic Tuesday Dinner
DESCRIPTION:Join us for Cocktails and Dinner on Tuesday\, January 23rd\, for our first Teutonic Tuesday of the New Year at Ace Cafe Orlando \nAce Cafe\n100 W Livingston St.\nOrlando 32801\nCocktails at 6:00 PM\nDinner at 7:00 PM\nWebsite http://www.acecafeusa.com \nNOTE *\nIt is very important that if you would like to attend that you RSVP Robin so that they can make sure there is enough seating for everyone in the group. \nEMAIL robin@artisticantiquities.com by no later than Monday\, January 22nd\, if you would like to attend.  \nPlease mention the event to which you are responding this is extremely important to make sure there are enough accommodations for the event you would like to attend.\nThank you\,\nRobin
URL:http://sunshinebimmers.org/event/teutonic-tuesday-dinner-3/
LOCATION:FL
CATEGORIES:General
ATTACH;FMTTYPE=image/jpeg:http://sunshinebimmers.org/wp-content/uploads/2018/01/22521_1501597044.jpg
END:VEVENT
BEGIN:VEVENT
DTSTART;TZID=America/New_York:20180120T100000
DTEND;TZID=America/New_York:20180120T160000
DTSTAMP:20260420T054609
CREATED:20180117T152903Z
LAST-MODIFIED:20180117T152903Z
UID:859-1516442400-1516464000@sunshinebimmers.org
SUMMARY:Cops n' Cars for Kids
DESCRIPTION:Car show for kids presented by Oviedo Optimist\nWe’re Bringing Out the Best in Kids \nRegister your Car\nGet a booth\nBe a sponsor \nWebsite\nhttp://owsoptimistclub.com/cops-n-cars/ \nBonus: VIP registration on event day with ONLINE registration.\nBonus: Register ONLINE before January 2 for discounts.\nONLINE registration ends January 18\, 2018\nOr – Day of the Event – register in person from 10am – 12pm
URL:http://sunshinebimmers.org/event/cops-n-cars-for-kids/
LOCATION:FL
CATEGORIES:Car Show,General
ATTACH;FMTTYPE=image/jpeg:http://sunshinebimmers.org/wp-content/uploads/2018/01/DDS5173.jpg
END:VEVENT
BEGIN:VEVENT
DTSTART;TZID=America/New_York:20180120T080000
DTEND;TZID=America/New_York:20180120T080000
DTSTAMP:20260420T054609
CREATED:20180117T151302Z
LAST-MODIFIED:20180117T151302Z
UID:852-1516435200-1516435200@sunshinebimmers.org
SUMMARY:Cars and Coffee Orlando
DESCRIPTION:Car lovers coming together at House Blend Cafe on the third (3rd) Saturday of every month at 8:00 AM / 10 AM to enjoy breakfast\, coffee\, and our greatest passion – cars. \nHouse Blend Cafe is located at:\n10730 W. Colonial Drive\, Ocoee\, FL 34761 \nHouse Blend Cafe Website\nhttps://www.houseblendcafe.com/\nHouse Blend Cafe Facebook\nhttps://www.facebook.com/CarsandCoffeeOrlando/ \nHope to see you there. \nPhoto by Robin Grooms Butler
URL:http://sunshinebimmers.org/event/cars-and-coffee-orlando-2/
LOCATION:FL
CATEGORIES:General
ATTACH;FMTTYPE=image/jpeg:http://sunshinebimmers.org/wp-content/uploads/2017/10/20953701_10213774801549417_4426085536032621027_n.jpg
END:VEVENT
BEGIN:VEVENT
DTSTART;TZID=America/New_York:20171208T183000
DTEND;TZID=America/New_York:20171208T213000
DTSTAMP:20260420T054609
CREATED:20171108T150244Z
LAST-MODIFIED:20171109T042055Z
UID:777-1512757800-1512768600@sunshinebimmers.org
SUMMARY:Holiday Party & Annual Meeting // Time Sensitive RSVP
DESCRIPTION:BMW Car Club of America\, Sunshine Bimmers Chapter\, Inc. is delighted to announce that we will once again hold our Holiday Party & Annual Meeting at the beautiful Fields BMW of Winter Park\, on Friday\, December 8th\, 2017. \nWe are honored that Fields BMW of Winter Park has been gracious to host our event for a 2nd year by donating us the use of their beautiful facility & showroom for an exclusive and exceptional night to remember. The evening will begin at 6:30 pm with some Mingling and H’orderves\, followed by a brief annual meeting and dinner. Puff n Stuff catering has once again been chosen to provide us with an unforgettable dining experience\, dinner will be served from 7:30 pm until 9:30 pm. \nLocation: Fields BMW of Winter Park\nAddress: 963 N. Wymore Rd.\nWinter Park\, FL 32789\nFields BMW Phone: 407-628-2100 \nSeating for this event is very limited\, thus we ask you to RSVP ASAP this is required and the only way to ensure you will be able to attend\, this will also ensure that the proper amount of meals are prepared for the event. \nPlease read the following information carefully as all due dates must be adhered to. \nThis is a limited attendee event and WILL be limited to the first 50 members and guests (combined) that respond to this notification. Due to space and budget\, this event is to be to be capped at 50 Attendees. \nAcceptance of the request will be based on the time stamp of the RSVP. You will receive a response on the status of your request of the acceptance or rejection via email. \n\nDinner is complementary to each Member attending plus one guest.\nYou MUST provide your membership number to validate your membership for Holiday Dinner.\nRSVPs must be submitted ASAP\, via email:\nPlease send RSVP to Robin: ( robin @ artisticantiquities . com )\nIncluded in the email: Member’s Name\, Current BMWCCA Membership Number\, and 1 guest name if you are bringing one.\nDeadline for Holiday Dinner RSVP / Sign up is November 25th\, 2017 or the first 50 qualified attendees whichever comes first.\n\nPlease keep this date in mind when responding to the invitation.\nMembers and guests will be checked in at the door so that everyone can enjoy the festivities.\nYour cooperation is appreciated\, and the key to making our annual event successful!\nIf you have any further questions\, you may email Robin Butler. ( robin @ artisticantiquities . com ) \nThis is required\, thank you in advance and we look forward to seeing you there.
URL:http://sunshinebimmers.org/event/holiday-party-annual-meeting-time-sensitive-rsvp/
LOCATION:Fields BMW Winter Park 963 N Wymore Rd\, Winter Park\, Florida 32789\, 963 N Wymore Rd\, Winter Park\, 32789\, United States
CATEGORIES:Annual Holiday Party,General
ATTACH;FMTTYPE=image/jpeg:http://sunshinebimmers.org/wp-content/uploads/2017/11/BMW-Christmas-Dinner-2016-v2.jpg
END:VEVENT
BEGIN:VEVENT
DTSTART;TZID=America/New_York:20171128T180000
DTEND;TZID=America/New_York:20171128T210000
DTSTAMP:20260420T054609
CREATED:20171025T023634Z
LAST-MODIFIED:20171114T154828Z
UID:764-1511892000-1511902800@sunshinebimmers.org
SUMMARY:Teutonic Tuesday Dinner
DESCRIPTION:Join us for Cocktails and Dinner on Tuesday\, November 28th for Teutonic Tuesday at Pisces Rising \nCocktails at 6:00 PM\nDinner at 7:00 PM \nNOTE *\nIt is very important that if you would like to attend that you RSVP Robin so that they can make sure there is enough seating for everyone in the group. \nEMAIL robin@artisticantiquities.com by no later than Sunday\, November 26th\, if you would like to attend\, please mention the event to which you are responding this is extremely important to make sure there are enough accommodations for the event you would like to attend.\nThank you\, Robin
URL:http://sunshinebimmers.org/event/teutonic-tuesday-dinner-2/
LOCATION:Pisces Rising\, 239 W. 4th Ave\, Mt Dora\, FL\, 32757\, United States
CATEGORIES:General
ATTACH;FMTTYPE=image/jpeg:http://sunshinebimmers.org/wp-content/uploads/2017/10/Pisces-Rising.jpg
END:VEVENT
BEGIN:VEVENT
DTSTART;TZID=America/New_York:20171118T080000
DTEND;TZID=America/New_York:20171118T100000
DTSTAMP:20260420T054609
CREATED:20171023T235432Z
LAST-MODIFIED:20171023T235657Z
UID:670-1510992000-1510999200@sunshinebimmers.org
SUMMARY:Cars and Coffee Orlando
DESCRIPTION:Car lovers coming together at House Blend Cafe on the third (3rd) Saturday of every month from 8:00 AM / 10 AM to enjoy breakfast\, coffee\, and our greatest passion – cars. \nHouse Blend Cafe is located at:\n10730 W. Colonial Drive\, Ocoee\, FL 34761 \nHouse Blend Cafe Facebook\nhttps://www.facebook.com/CarsandCoffeeOrlando/ \nHope to see you there. \n 
URL:http://sunshinebimmers.org/event/cars-and-coffee-orlando/
LOCATION:House Blend Cafe\, 10730 W. Colonial Drive\, Ocoee\, FL\, 34761\, United States
CATEGORIES:General
ATTACH;FMTTYPE=image/jpeg:http://sunshinebimmers.org/wp-content/uploads/2017/10/20953701_10213774801549417_4426085536032621027_n.jpg
END:VEVENT
BEGIN:VEVENT
DTSTART;TZID=America/New_York:20171112T090000
DTEND;TZID=America/New_York:20171112T160000
DTSTAMP:20260420T054609
CREATED:20171024T184706Z
LAST-MODIFIED:20171024T184706Z
UID:693-1510477200-1510502400@sunshinebimmers.org
SUMMARY:BMW & Seaplane Get Together Picnic at Bowden's Landing
DESCRIPTION:I have a yearly Searey Splash-In and would like to invite Gator Z \, Central Florida BMW Owners and Sunshine Bimmers members to attend.\nThere will be burgers\, hotdogs\, sodas\, chips & stuff. The Searey Factory will have free demonstration rides to anyone interested.\nAs you can see the front yard is big enough to have a BMW car show. Maybe it can be a yearly BMW event too.\nPlease RSVP to tab380@aol.com or 352-669-3752 and leave a message.\nThere is a door prize gift exchange. Please bring a $5 to $10 unwrapped gift to put in the door prize box.\nwww.Bowdens-Landing.com
URL:http://sunshinebimmers.org/event/bmw-seaplane-get-together-picnic-at-bowdens-landing/
LOCATION:Thomas Bowden Home\, 16761 Keene Rd\, Umatilla\, FL\, 32784-9006\, United States
CATEGORIES:General
ATTACH;FMTTYPE=image/jpeg:http://sunshinebimmers.org/wp-content/uploads/2017/10/seap-lane-.jpg
END:VEVENT
BEGIN:VEVENT
DTSTART;TZID=America/New_York:20171029T090000
DTEND;TZID=America/New_York:20171029T130000
DTSTAMP:20260420T054609
CREATED:20171023T215209Z
LAST-MODIFIED:20171023T224346Z
UID:638-1509267600-1509282000@sunshinebimmers.org
SUMMARY:Sunshine BMW CCA Car Show
DESCRIPTION:All BMW enthusiasts welcome to this Show and Shine Car Show with multiple classes of BMW’s. Classic; Vintage; Contemporary and others. \nBring your BMW out no matter the condition\, you might be surprised and win your class! \nFor more information\, you can call or text Bob Zeigler at 954 294 1432 or email him at RobertZiegler@msn.com \nPhoto by Nick Katona at the 2013 BMW car show @ Fields BMW Lakeland Florida
URL:http://sunshinebimmers.org/event/sunshine-bmw-cca-car-show/
LOCATION:Fields BMW Winter Park\, 963 N Wymore Road\, Winter Park\, FL\, 32789\, United States
CATEGORIES:Car Show,General
ATTACH;FMTTYPE=image/jpeg:http://sunshinebimmers.org/wp-content/uploads/2017/10/22135333_10156693372326982_1762210383086529580_o.jpg
END:VEVENT
BEGIN:VEVENT
DTSTART;TZID=America/New_York:20170228T180000
DTEND;TZID=America/New_York:20170228T200000
DTSTAMP:20260420T054609
CREATED:20170215T152252Z
LAST-MODIFIED:20170215T153521Z
UID:615-1488304800-1488312000@sunshinebimmers.org
SUMMARY:Teutonic Tuesday Dinner
DESCRIPTION:Happy February! We hope to see you at our next Teutonic Tuesday which will be held on Tuesday\, February 28. 6 pm cocktails / 7 pm Dinner .\nWear your best Mardi Gras colors in celebration of Fat Tuesday is encouraged! \nYou can check out the menu here http://www.orleansbistroandbar.com/ . \nPlease confirm your attendance to Robin@artisticantiquities.com no later than Friday\, February 24.\nHope to see you there!
URL:http://sunshinebimmers.org/event/teutonic-tuesday-dinner/
LOCATION:Orleans Bistro & Bar\, 2204 S Washington Ave\, Titusville\, Florida\, 32780
CATEGORIES:General
ATTACH;FMTTYPE=image/jpeg:http://sunshinebimmers.org/wp-content/uploads/2017/02/tt.jpg
END:VEVENT
BEGIN:VEVENT
DTSTART;TZID=America/New_York:20170218T080000
DTEND;TZID=America/New_York:20170218T100000
DTSTAMP:20260420T054609
CREATED:20170215T153217Z
LAST-MODIFIED:20170215T153324Z
UID:621-1487404800-1487412000@sunshinebimmers.org
SUMMARY:Cars and Coffee
DESCRIPTION:Car lovers coming together at House Blend Cafe on the third Saturday of every month from 8 am – 10 am to enjoy breakfast\, coffee\, and our greatest passion – cars.
URL:http://sunshinebimmers.org/event/cars-and-coffee/
LOCATION:House Blend Cafe\, 10730 W. Colonial Drive\, Ocoee\, FL\, 34761\, United States
CATEGORIES:General
ATTACH;FMTTYPE=image/jpeg:http://sunshinebimmers.org/wp-content/uploads/2017/02/cars-and-coffee.jpg
END:VEVENT
BEGIN:VEVENT
DTSTART;VALUE=DATE:20151010
DTEND;VALUE=DATE:20151011
DTSTAMP:20260420T054609
CREATED:20140306T213632Z
LAST-MODIFIED:20150910T234951Z
UID:368-1444435200-1444521599@sunshinebimmers.org
SUMMARY:Ride to the Ranch Annual Cookout October 10\, 2015
DESCRIPTION:The plans are set for the 4th Annual “Ride to the Ranch” hosted by the First Coast Chapter BMW CCA on the 10th of October. Please come join members from several different BMW CCA Chapters. We know it is a long drive for some of you\, but we would enjoy having as many members as can attend.  This is a no cost event to the members or their guests attending\, the Chapters are picking up the tab as in the past. So that is one less reason for not attending that has been removed. \nIf you are coming on Saturday morning we invite you to form a group to drive to the event. First Coast Chapter has done this for the past three years and everyone enjoys the drive with other members. Come on Friday evening\, if you want\, or spend Saturday night\, there is is plenty of space to set up a tent and camp. If you are not into camping\, there are plenty of hotels nearby in Lady Lake\, Leesburg\, The Villages\, and Belleview. \nAll Day Saturday\, come early and stay as long as you like. Lunch will be served around 1:00 to 1:30 PM.  Registration is highly recommended and appreciated: www.motorsportreg.com/events/fourth-annual-ride-to-ranch-tiger-head-bmw-cca-first-coast-885750 \nEvents at the Cookout: \n\nA scenic drive in the area for those who want see the sights around the area.\nA “Members Favorite” Concours d’ Elegance where everyone votes for their favorite three cars and have some kind of award.\nHorseshoes\, hiking\, or just tossing around the football. If you just want to relax\, that’s fine as well.\n\nMenu: \n\nGrilled Chicken\nChopped Pork\nBaby Back Ribs\nBaked Beans\nColeslaw\nTossed Salad\nTexas Toast\nIced Tea (Sweet & Unsweet)\n\nIf you want to drink something other than tea\, please bring your own. We are requesting that anyone attending bring an appetizer or a dessert to share. \nLocation: \nGetting to the ranch is actually part of the event.  MacKay Tigerhead Ranch is on Marion County Road\, which is actually in extreme northern Lake County and is identified variously as being in Lady Lake\, The Villages\, and/or Weirsdale.   I am told you can use the address of 5110 Valley Oak St\, Weirsdale\, FL 32195 to get close\, but the actual driveway from Marion County Road is a dirt road about 25 feet further east and called Tall Pine St. You will cross the Lake/Marion County line along the driveway; the ranch itself is in Marion County. There will be signs on the roads nearby directing you to the ranch.
URL:http://sunshinebimmers.org/event/ride-to-the-ranch-cookout/
LOCATION:MacKay Tigerhead Ranch\, 41758 Tall Pine St\, Lady Lake\, FL\, 32159\, United States
CATEGORIES:General
ATTACH;FMTTYPE=image/jpeg:http://sunshinebimmers.org/wp-content/uploads/2014/03/cookout-e1652468763360.jpg
END:VEVENT
BEGIN:VEVENT
DTSTART;TZID=America/New_York:20140927T183000
DTEND;TZID=America/New_York:20140927T210000
DTSTAMP:20260420T054609
CREATED:20140909T033516Z
LAST-MODIFIED:20140909T033516Z
UID:439-1411842600-1411851600@sunshinebimmers.org
SUMMARY:Octoberfest at the Spikes!!
DESCRIPTION:The Spikes have invited the club to join them to celebrate Oktoberfest.. Join us for some good German food\, beer and wine.
URL:http://sunshinebimmers.org/event/octoberfest-at-the-spikes/
LOCATION:Octoberfest\, 13840 Darchance Rd\, Windermere\, FL\, United States
CATEGORIES:General
ORGANIZER;CN="Patrick Spikes":MAILTO:pspikes@cfl.rr.com
END:VEVENT
END:VCALENDAR