BEGIN:VCALENDAR
VERSION:2.0
PRODID:-//Sunshine Bimmers - ECPv6.15.20//NONSGML v1.0//EN
CALSCALE:GREGORIAN
METHOD:PUBLISH
X-ORIGINAL-URL:http://sunshinebimmers.org
X-WR-CALDESC:Events for Sunshine Bimmers
REFRESH-INTERVAL;VALUE=DURATION:PT1H
X-Robots-Tag:noindex
X-PUBLISHED-TTL:PT1H
BEGIN:VTIMEZONE
TZID:America/New_York
BEGIN:DAYLIGHT
TZOFFSETFROM:-0500
TZOFFSETTO:-0400
TZNAME:EDT
DTSTART:20220313T070000
END:DAYLIGHT
BEGIN:STANDARD
TZOFFSETFROM:-0400
TZOFFSETTO:-0500
TZNAME:EST
DTSTART:20221106T060000
END:STANDARD
BEGIN:DAYLIGHT
TZOFFSETFROM:-0500
TZOFFSETTO:-0400
TZNAME:EDT
DTSTART:20230312T070000
END:DAYLIGHT
BEGIN:STANDARD
TZOFFSETFROM:-0400
TZOFFSETTO:-0500
TZNAME:EST
DTSTART:20231105T060000
END:STANDARD
BEGIN:DAYLIGHT
TZOFFSETFROM:-0500
TZOFFSETTO:-0400
TZNAME:EDT
DTSTART:20240310T070000
END:DAYLIGHT
BEGIN:STANDARD
TZOFFSETFROM:-0400
TZOFFSETTO:-0500
TZNAME:EST
DTSTART:20241103T060000
END:STANDARD
END:VTIMEZONE
BEGIN:VEVENT
DTSTART;VALUE=DATE:20230715
DTEND;VALUE=DATE:20230716
DTSTAMP:20260424T004742
CREATED:20230514T172012Z
LAST-MODIFIED:20230514T172221Z
UID:2263-1689379200-1689465599@sunshinebimmers.org
SUMMARY:Come join us for Sunshine Bimmers Funday Drive to Yalaha Bakery!
DESCRIPTION:We did this drive 2 years ago and members really enjoyed it! \nSo\, If you enjoyed the drive to Yalaha Bakery and Silver Springs you are going to really enjoy this drive to Clermont. The back roads are twisty with many elevation changes\, plus some really nice scenic views. \n \nLets meet at the Publix Shopping Center located at 2042 State Rd19 Tavares\, Fl. 32778 at 11:00 am for a 11:30 am departure. \nWe’ll drive down some very nice\, twisty back roads to Yalaha Bakery located at 8210 County Road 48\, Yalaha 34797 for a pastry pit stop. \nLunch will be at a restaurant located in Clermont. Location is to be determined. \nWebsite: https://yalahabakery.com/\nFacebook: https://www.facebook.com/yalahabakery \n \n\n\nAbout Yalaha Bakery \nYalaha Bakery is a family owned company\, founded in 1995 with the philosophy to offer Central Floridians only high quality German Organic products\, made with the highest culinary standards. \n\n\n\n\nProviding products that are made only with organic natural sources\, using the best ingredients from around the world. \n\n\n\n\nToday our Bakery has achieved that standard of quality and continues to work bringing more healthy options to the public\, by making every day new products\, such as Gluten Free Breads and Pastries\, Sugar Free Pastries\, and a number of products made only with natural grains to please our valued costumers. \n\n\n\nWe pride ourselves of making products that are naturally made\, our breads are artisan handmade chemical free from preservatives and made with organic Flours.\n\n\nOur pastries are made with organic flours\, butter\, organic chocolates\, organic spices and imported European ingredients\n\n\n\nAny questions contact Bob Ziegler robertziegler@msn.com or call 954-294-1432
URL:http://sunshinebimmers.org/event/come-join-us-for-sunshine-bimmers-funday-drive-to-yalaha-bakery-2/
LOCATION:Yalaha Bakery\, 8210 County Road 48\, Yalaha\, FL\, 34797\, United States
CATEGORIES:Saturday Fun Drive
ATTACH;FMTTYPE=image/jpeg:http://sunshinebimmers.org/wp-content/uploads/2022/05/ride.jpg
END:VEVENT
END:VCALENDAR