BEGIN:VCALENDAR
VERSION:2.0
PRODID:-//Sunshine Bimmers - ECPv6.15.20//NONSGML v1.0//EN
CALSCALE:GREGORIAN
METHOD:PUBLISH
X-ORIGINAL-URL:http://sunshinebimmers.org
X-WR-CALDESC:Events for Sunshine Bimmers
REFRESH-INTERVAL;VALUE=DURATION:PT1H
X-Robots-Tag:noindex
X-PUBLISHED-TTL:PT1H
BEGIN:VTIMEZONE
TZID:America/New_York
BEGIN:DAYLIGHT
TZOFFSETFROM:-0500
TZOFFSETTO:-0400
TZNAME:EDT
DTSTART:20220313T070000
END:DAYLIGHT
BEGIN:STANDARD
TZOFFSETFROM:-0400
TZOFFSETTO:-0500
TZNAME:EST
DTSTART:20221106T060000
END:STANDARD
BEGIN:DAYLIGHT
TZOFFSETFROM:-0500
TZOFFSETTO:-0400
TZNAME:EDT
DTSTART:20230312T070000
END:DAYLIGHT
BEGIN:STANDARD
TZOFFSETFROM:-0400
TZOFFSETTO:-0500
TZNAME:EST
DTSTART:20231105T060000
END:STANDARD
BEGIN:DAYLIGHT
TZOFFSETFROM:-0500
TZOFFSETTO:-0400
TZNAME:EDT
DTSTART:20240310T070000
END:DAYLIGHT
BEGIN:STANDARD
TZOFFSETFROM:-0400
TZOFFSETTO:-0500
TZNAME:EST
DTSTART:20241103T060000
END:STANDARD
END:VTIMEZONE
BEGIN:VEVENT
DTSTART;TZID=America/New_York:20231118T100000
DTEND;TZID=America/New_York:20231118T130000
DTSTAMP:20260423T193142
CREATED:20231107T143808Z
LAST-MODIFIED:20231107T143924Z
UID:2313-1700301600-1700312400@sunshinebimmers.org
SUMMARY:Come join us for the Sunshine Bimmers Funday Drive to Yalaha Bakery!
DESCRIPTION:Our first drive of the season. Everyone has enjoyed the drive to Yalaha Bakery so we will be going back. \n \nMeet at Stony Brook Hills Shopping Center 6551 N OBT / US 441 in Mount Dora at 10:00 a.m. for a 10:30 a.m. departure. \nWe’ll drive down some very nice\, twisty back roads to Yalaha Bakery located at 8210 County Road 48\, Yalaha 34797 for a pastry pit stop. \nWebsite: https://yalahabakery.com/\nFacebook: https://www.facebook.com/yalahabakery \n \n\n\nAbout Yalaha Bakery \nYalaha Bakery is a family-owned company\, founded in 1995 with the philosophy to offer Central Floridians only high-quality German Organic products\, made with the highest culinary standards. \n\n\n\n\nProviding products that are made only from organic natural sources\, using the best ingredients from around the world. \n\n\n\n\nToday our Bakery has achieved that standard of quality and continues to work to bring more healthy options to the public\, by making everyday new products\, such as Gluten Free Breads and Pastries\, Sugar Free Pastries\, and a number of products made only with natural grains to please our valued costumers. \n\n\n\nWe pride ourselves on making products that are naturally made\, our breads are artisan handmade chemical-free from preservatives\, and made with organic flour.\n\n\nOur pastries are made with organic flours\, butter\, organic chocolates\, organic spices\, and imported European ingredients
URL:http://sunshinebimmers.org/event/come-join-us-for-the-sunshine-bimmers-funday-drive-to-yalaha-bakery/
LOCATION:Yalaha Bakery\, 8210 County Road 48\, Yalaha\, FL\, 34797\, United States
CATEGORIES:Saturday Fun Drive
ATTACH;FMTTYPE=image/jpeg:http://sunshinebimmers.org/wp-content/uploads/2021/07/drive-2-e1731083432676.jpg
END:VEVENT
END:VCALENDAR